BEGIN:VCALENDAR
VERSION:2.0
PRODID:-//Plone.org//NONSGML plone.app.event//EN
X-WR-TIMEZONE:Europe/Helsinki
BEGIN:VEVENT
SUMMARY:Città d'oro 2022
DTSTART;TZID=Europe/Helsinki:20221003T010000
DTEND;TZID=Europe/Helsinki:20221008T005959
DTSTAMP:20260422T072349Z
UID:d0037835296b49e78e6d27a0a4cce6e2@climate-adapt.eea.europa.eu
CONTACT:https://daringcities.org/
CREATED:20220910T225830Z
DESCRIPTION:Questo forum virtuale globale è concepito per consentire ai r
 esponsabili delle decisioni urbane di affrontare l'emergenza climatica. L'
 edizione 2022 si concentrerà sui finanziamenti e sull'azione per il clima
 .
LAST-MODIFIED:20221005T192728Z
LOCATION:Online
URL:https://climate-adapt.eea.europa.eu/it/more-events/daring-cities-2022
END:VEVENT
BEGIN:VTIMEZONE
TZID:Europe/Helsinki
X-LIC-LOCATION:Europe/Helsinki
BEGIN:DAYLIGHT
DTSTART:20220327T040000
TZNAME:EEST
TZOFFSETFROM:+0200
TZOFFSETTO:+0300
END:DAYLIGHT
END:VTIMEZONE
END:VCALENDAR
