BEGIN:VCALENDAR
VERSION:2.0
PRODID:-//Plone.org//NONSGML plone.app.event//EN
X-WR-TIMEZONE:Europe/Helsinki
BEGIN:VEVENT
SUMMARY:Evento collaterale ECCA2023: integrazione dell'adattamento a livel
 lo locale
DTSTART;TZID=Europe/Helsinki:20230620T020000
DTEND;TZID=Europe/Helsinki:20230621T015959
DTSTAMP:20260419T150404Z
UID:d250fefa3ea24d6e8c4900460985151e@climate-adapt.eea.europa.eu
CONTACT:https://www.ecca2023.eu/nocca-stronger-together-for-a-climate-resi
 lient-north-will-be-present-at-ecca2023-side-event-on-mainstreaming-adapta
 tion-at-the-local-level
CREATED:20230619T142916Z
DESCRIPTION:I messaggi chiave della 6a Conferenza nordica sull'adattamento
  ai cambiamenti climatici (NOCCA 2023) saranno presentati in occasione di 
 un evento collaterale dell'ECCA (European Climate Change Adaptation — EC
 CA). Questo evento collaterale discuterà ed esaminerà le misure per inte
 grare l'adattamento ai cambiamenti climatici a livello locale nella comuni
 tà europea. Tutti i partecipanti dell'ECCA2023 interessati a temi quali i
  rischi transfrontalieri\, le soluzioni basate sulla natura e la pianifica
 zione generale a livello locale sono invitati a partecipare alla sessione.
LAST-MODIFIED:20230619T145101Z
LOCATION:Dublino\, Irlanda
URL:https://climate-adapt.eea.europa.eu/it/more-events/ecca2023-side-event
 -mainstreaming-adaptation-at-the-local-level
END:VEVENT
BEGIN:VTIMEZONE
TZID:Europe/Helsinki
X-LIC-LOCATION:Europe/Helsinki
BEGIN:DAYLIGHT
DTSTART:20230326T040000
TZNAME:EEST
TZOFFSETFROM:+0200
TZOFFSETTO:+0300
END:DAYLIGHT
END:VTIMEZONE
END:VCALENDAR
