BEGIN:VCALENDAR
VERSION:2.0
PRODID:-//Plone.org//NONSGML plone.app.event//EN
X-WR-TIMEZONE:Europe/Helsinki
BEGIN:VEVENT
SUMMARY:Conferenza europea sull'adattamento ai cambiamenti climatici (ECCA
 ) 2019
DTSTART;TZID=Europe/Helsinki:20190528T100000
DTEND;TZID=Europe/Helsinki:20190531T180000
DTSTAMP:20260422T174735Z
UID:89335624e112463086c5d17d1a283c90@climate-adapt.eea.europa.eu
CONTACT:https://www.ecca2019.eu/
CREATED:20220910T225756Z
DESCRIPTION:La 4a conferenza ECCA: "Lavorare insieme per prepararsi al cam
 biamento" si concentrerà su sei temi\, dalla co-produzione di conoscenze 
 alla risposta alle sfide globali dell'adattamento ai cambiamenti climatici
  e della riduzione del rischio di catastrofi. Presentazione in sintesi e i
 n sessione: Da luglio a settembre 2018. Le iscrizioni iniziano nel settemb
 re 2018.
LAST-MODIFIED:20221005T192713Z
LOCATION:Lisbon\, Portugal
URL:https://climate-adapt.eea.europa.eu/it/more-events/european-climate-ch
 ange-adaptation-conference-ecca-2019
END:VEVENT
BEGIN:VTIMEZONE
TZID:Europe/Helsinki
X-LIC-LOCATION:Europe/Helsinki
BEGIN:DAYLIGHT
DTSTART:20190331T040000
TZNAME:EEST
TZOFFSETFROM:+0200
TZOFFSETTO:+0300
END:DAYLIGHT
END:VTIMEZONE
END:VCALENDAR
