BEGIN:VCALENDAR
VERSION:2.0
PRODID:-//Plone.org//NONSGML plone.app.event//EN
X-WR-TIMEZONE:Europe/Helsinki
BEGIN:VEVENT
SUMMARY:Convegno EUROSOIL 2020/2021
DTSTART;TZID=Europe/Helsinki:20210823T010000
DTEND;TZID=Europe/Helsinki:20210828T005959
DTSTAMP:20260421T015420Z
UID:995f67e18cb14abe9a305d384c735ce0@climate-adapt.eea.europa.eu
CONTACT:https://eurosoil2020.com/
CREATED:20220910T225801Z
DESCRIPTION:L'obiettivo di questa conferenza è riunire ricercatori di spi
 cco che lavorano su temi legati al suolo e soggetti interessati che si occ
 upano di questioni di interesse pubblico\, come il degrado del suolo e le 
 conseguenze dei cambiamenti climatici. Durante la conferenza sarà sottoli
 neato l'importante ruolo di ponte degli operatori del suolo per tradurre i
 n pratica le conoscenze scientifiche.
LAST-MODIFIED:20221005T192715Z
LOCATION:Geneva\, Switzerland
URL:https://climate-adapt.eea.europa.eu/it/more-events/eurosoil-conference
END:VEVENT
BEGIN:VTIMEZONE
TZID:Europe/Helsinki
X-LIC-LOCATION:Europe/Helsinki
BEGIN:DAYLIGHT
DTSTART:20210328T040000
TZNAME:EEST
TZOFFSETFROM:+0200
TZOFFSETTO:+0300
END:DAYLIGHT
END:VTIMEZONE
END:VCALENDAR
