BEGIN:VCALENDAR
VERSION:2.0
PRODID:-//Plone.org//NONSGML plone.app.event//EN
X-WR-TIMEZONE:Europe/Helsinki
BEGIN:VEVENT
SUMMARY:Formazione dei dirigenti sul rafforzamento della resilienza ai cam
 biamenti climatici
DTSTART;TZID=Europe/Helsinki:20221024T010000
DTEND;TZID=Europe/Helsinki:20221026T005959
DTSTAMP:20260421T110836Z
UID:4d3a7bd7bd8c4369a9d8d24f049a1dcf@climate-adapt.eea.europa.eu
CONTACT:https://www.wemcouncil.org/wp/executive-training-on-building-resil
 ience-to-climate-change/
CREATED:20221104T125527Z
DESCRIPTION:Il World Energy and Meteorology Council (WEMC) in collaborazio
 ne con Inside Climate Service srl\, l'Università di Padova e i colleghi d
 ell'Università di East Anglia stanno avviando una nuova serie di formazio
 ni mirate rivolte ai professionisti per comprendere come i servizi climati
 ci possano essere utilizzati per la pianificazione\, il processo decisiona
 le\, la comunicazione\, lo sviluppo delle imprese e la definizione di stra
 tegie per rafforzare la resilienza a lungo termine ai cambiamenti climatic
 i. L'evento si svolgerà a Montegrotto Terme\, Italia\, dal 24 al 25 ottob
 re 2022.
LAST-MODIFIED:20221122T193416Z
LOCATION:Montegrotto Terme\, Italia
URL:https://climate-adapt.eea.europa.eu/it/more-events/executive-training-
 on-building-resilience-to-climate-change
END:VEVENT
BEGIN:VTIMEZONE
TZID:Europe/Helsinki
X-LIC-LOCATION:Europe/Helsinki
BEGIN:DAYLIGHT
DTSTART:20220327T040000
TZNAME:EEST
TZOFFSETFROM:+0200
TZOFFSETTO:+0300
END:DAYLIGHT
END:VTIMEZONE
END:VCALENDAR
