BEGIN:VCALENDAR
VERSION:2.0
PRODID:-//Plone.org//NONSGML plone.app.event//EN
X-WR-TIMEZONE:Europe/Helsinki
BEGIN:VEVENT
SUMMARY:Riunione finale sullo studio sulla modellizzazione dell'adattament
 o ai cambiamenti climatici
DTSTART;TZID=Europe/Helsinki:20220318T133000
DTEND;TZID=Europe/Helsinki:20220318T150000
DTSTAMP:20260421T160659Z
UID:030575c5e30549058a14b980d475a1b6@climate-adapt.eea.europa.eu
CONTACT:https://www.cmcc.it/lectures_conferences/study-on-climate-adaptati
 on-modelling-final-briefing
CREATED:20220910T225830Z
DESCRIPTION:I risultati dello studio sulla modellizzazione dell'adattament
 o\, commissionato dalla DG CLIMA della Commissione europea e realizzato da
  un gruppo di scienziati internazionali coordinato dalla Fondazione CMCC\,
  si concentrano sulla modellizzazione dell'adattamento con l'obiettivo di 
 sostenere un processo decisionale meglio informato. L'evento conclusivo di
 scuterà i risultati dello studio alla luce della recente evoluzione del p
 anorama delle politiche di adattamento.
LAST-MODIFIED:20221005T192728Z
LOCATION:Online
URL:https://climate-adapt.eea.europa.eu/it/more-events/final-meeting-on-th
 e-study-on-climate-adaptation-modelling
END:VEVENT
BEGIN:VTIMEZONE
TZID:Europe/Helsinki
X-LIC-LOCATION:Europe/Helsinki
BEGIN:STANDARD
DTSTART:20211031T030000
TZNAME:EET
TZOFFSETFROM:+0300
TZOFFSETTO:+0200
END:STANDARD
END:VTIMEZONE
END:VCALENDAR
