BEGIN:VCALENDAR
VERSION:2.0
PRODID:-//Plone.org//NONSGML plone.app.event//EN
X-WR-TIMEZONE:Europe/Helsinki
BEGIN:VEVENT
SUMMARY:Conferenza sul rischio di Floodrisk 2016
DTSTART;TZID=Europe/Helsinki:20161017T100000
DTEND;TZID=Europe/Helsinki:20161021T235500
DTSTAMP:20260421T062803Z
UID:8400be43d0c64de8ad99085945661ee0@climate-adapt.eea.europa.eu
CONTACT:http://floodrisk2016.net/
CREATED:20220910T225737Z
DESCRIPTION:Floodrisk 2016 esaminerà i progressi della ricerca nell'anali
 si del rischio di alluvioni e le innovazioni nella pratica di gestione del
  rischio di alluvioni. La conferenza esaminerà tutti gli aspetti del risc
 hio di alluvioni e affronterà le cause delle alluvioni\, il loro impatto 
 sulle persone\, le proprietà e l'ambiente\, nonché i portafogli di misur
 e di gestione dei rischi.
LAST-MODIFIED:20221005T192706Z
LOCATION:Lyon\, France
URL:https://climate-adapt.eea.europa.eu/it/more-events/floodrisk-2016-conf
 erence
END:VEVENT
BEGIN:VTIMEZONE
TZID:Europe/Helsinki
X-LIC-LOCATION:Europe/Helsinki
BEGIN:DAYLIGHT
DTSTART:20160327T040000
TZNAME:EEST
TZOFFSETFROM:+0200
TZOFFSETTO:+0300
END:DAYLIGHT
END:VTIMEZONE
END:VCALENDAR
