BEGIN:VCALENDAR
VERSION:2.0
PRODID:-//Plone.org//NONSGML plone.app.event//EN
X-WR-TIMEZONE:Europe/Helsinki
BEGIN:VEVENT
SUMMARY:Vertice di Gaia Artic 2024
DTSTART;VALUE=DATE:20240606
DTEND;VALUE=DATE:20240609
DTSTAMP:20260419T145848Z
UID:407c229d46b546249353e588c7a71d9e@next-climate-adapt.eea.europa.eu
CATEGORIES:event
CONTACT:https://gaiaarcticsummit.eco/
CREATED:20240528T153653Z
DESCRIPTION:Il vertice artico di Gaia 2024\, cofinanziato dall'UE\, è una
  conferenza internazionale sul clima per affrontare questioni urgenti in m
 ateria di cambiamenti climatici\, con particolare attenzione alle comunit
 à marittime e costiere del Nord.
LAST-MODIFIED:20240528T153720Z
LOCATION:Sortland\, Norway
URL:https://climate-adapt.eea.europa.eu/it/more-events/gaia-artic-summit-2
 024
END:VEVENT
END:VCALENDAR
