BEGIN:VCALENDAR
VERSION:2.0
PRODID:-//Plone.org//NONSGML plone.app.event//EN
X-WR-TIMEZONE:Europe/Helsinki
BEGIN:VEVENT
SUMMARY:Conferenza ad alto livello sui cambiamenti climatici e la conserva
 zione degli oceani
DTSTART;TZID=Europe/Helsinki:20190219T010000
DTEND;TZID=Europe/Helsinki:20190220T005959
DTSTAMP:20260419T155932Z
UID:a9de4b5813e54d71a655d24a50d2a391@climate-adapt.eea.europa.eu
CONTACT:http://www.jpi-oceans.eu/news-events/events/high-level-conference-
 climate-change-and-ocean-conservation
CREATED:20220910T225759Z
DESCRIPTION:La conferenza\, organizzata dall'IPC Oceans\, mira a riunire m
 inistri\, rappresentanti dell'industria\, della società civile\, delle au
 torità pubbliche e della ricerca per discutere le modalità per mitigare 
 e gestire gli impatti dei cambiamenti climatici sulla conservazione degli 
 oceani ed esplorare le opportunità offerte dagli oceani per la produzione
  di energia a zero emissioni di CO2.
LAST-MODIFIED:20221005T192714Z
LOCATION:Brussels\, Belgium
URL:https://climate-adapt.eea.europa.eu/it/more-events/high-level-conferen
 ce-on-climate-change-and-ocean-conservation
END:VEVENT
BEGIN:VTIMEZONE
TZID:Europe/Helsinki
X-LIC-LOCATION:Europe/Helsinki
BEGIN:STANDARD
DTSTART:20181028T030000
TZNAME:EET
TZOFFSETFROM:+0300
TZOFFSETTO:+0200
END:STANDARD
END:VTIMEZONE
END:VCALENDAR
