BEGIN:VCALENDAR
VERSION:2.0
PRODID:-//Plone.org//NONSGML plone.app.event//EN
X-WR-TIMEZONE:Europe/Helsinki
BEGIN:VEVENT
SUMMARY:Introduzione e opportunità per NbS: Riflessioni dal progetto RECO
 NECT
DTSTART;TZID=Europe/Helsinki:20230508T150000
DTEND;TZID=Europe/Helsinki:20230508T163000
DTSTAMP:20260419T165157Z
UID:044992d73300429db1d7901ece7c4a61@climate-adapt.eea.europa.eu
CATEGORIES:event,NbS
CONTACT:http://www.reconect.eu/webinars/introduction-and-opportunities-for
 -nbs/
CREATED:20250422T183254Z
DESCRIPTION:Questo webinar\, organizzato dal progetto RECONECT\, finanziat
 o dall'UE\, introduce il contesto in cui le soluzioni basate sulla natura 
 (NbS) sono co-create\, implementate e potenziate\, con l'obiettivo di ridu
 rre i rischi idrometeorologici. Il pubblico destinatario del webinar\, com
 presi i responsabili politici e decisionali\, dovrebbe acquisire conoscenz
 e sui quadri strategici dell'UE e internazionali a sostegno degli NBS e su
 ll'innovazione e le tecnologie per la loro attuazione.
LAST-MODIFIED:20250422T183255Z
LOCATION:Webinar
URL:https://climate-adapt.eea.europa.eu/it/more-events/introduction-and-op
 portunities-for-nbs-reflections-from-the-eu-reconect-project
END:VEVENT
BEGIN:VTIMEZONE
TZID:Europe/Helsinki
X-LIC-LOCATION:Europe/Helsinki
BEGIN:DAYLIGHT
DTSTART:20230326T040000
TZNAME:EEST
TZOFFSETFROM:+0200
TZOFFSETTO:+0300
END:DAYLIGHT
END:VTIMEZONE
END:VCALENDAR
