BEGIN:VCALENDAR
VERSION:2.0
PRODID:-//Plone.org//NONSGML plone.app.event//EN
X-WR-TIMEZONE:Europe/Helsinki
BEGIN:VEVENT
SUMMARY:Seminario sull'iniziativa Natur'Adapt
DTSTART;TZID=Europe/Helsinki:20210713T103000
DTEND;TZID=Europe/Helsinki:20210713T120000
DTSTAMP:20260420T012614Z
UID:f0d9a504d702445db621aa2ca0935a32@climate-adapt.eea.europa.eu
CONTACT:https://www.europarc.org/news/
CREATED:20220910T225651Z
DESCRIPTION:Seminario partecipativo per avviare un dialogo su come acceler
 are collettivamente la transizione verso una società rispettosa della nat
 ura e resiliente ai cambiamenti climatici.
LAST-MODIFIED:20221005T192646Z
LOCATION:Online
URL:https://climate-adapt.eea.europa.eu/it/more-events/natur2019adapt-init
 iative-workshop
END:VEVENT
BEGIN:VTIMEZONE
TZID:Europe/Helsinki
X-LIC-LOCATION:Europe/Helsinki
BEGIN:DAYLIGHT
DTSTART:20210328T040000
TZNAME:EEST
TZOFFSETFROM:+0200
TZOFFSETTO:+0300
END:DAYLIGHT
END:VTIMEZONE
END:VCALENDAR
