BEGIN:VCALENDAR
VERSION:2.0
PRODID:-//Plone.org//NONSGML plone.app.event//EN
X-WR-TIMEZONE:Europe/Helsinki
BEGIN:VEVENT
SUMMARY:Soluzioni basate sulla natura: Sbloccare il potenziale urbano
DTSTART;TZID=Europe/Helsinki:20200924T010000
DTEND;TZID=Europe/Helsinki:20200925T005959
DTSTAMP:20260420T012521Z
UID:ac431749492b475b95867ff1befc59c5@climate-adapt.eea.europa.eu
CONTACT:https://naturvation.eu/conference-2020
CREATED:20220910T225803Z
DESCRIPTION:Questa conferenza virtuale di NATURVATION fornirà nuove conos
 cenze su come le soluzioni basate sulla natura urbana possano garantire la
  sostenibilità sia locale che globale. Si tratterà di una combinazione d
 i dibattiti principali\, tavole rotonde e sessioni interattive in cui i pa
 rtecipanti condivideranno idee\, competenze ed esperienze pratiche.
LAST-MODIFIED:20221005T192715Z
LOCATION:Online
URL:https://climate-adapt.eea.europa.eu/it/more-events/nature-based-soluti
 ons-unlocking-urban-potential
END:VEVENT
BEGIN:VTIMEZONE
TZID:Europe/Helsinki
X-LIC-LOCATION:Europe/Helsinki
BEGIN:DAYLIGHT
DTSTART:20200329T040000
TZNAME:EEST
TZOFFSETFROM:+0200
TZOFFSETTO:+0300
END:DAYLIGHT
END:VTIMEZONE
END:VCALENDAR
