BEGIN:VCALENDAR
VERSION:2.0
PRODID:-//Plone.org//NONSGML plone.app.event//EN
X-WR-TIMEZONE:Europe/Helsinki
BEGIN:VEVENT
SUMMARY:Insegnante — Convegno finale CE
DTSTART;TZID=Europe/Helsinki:20220202T010000
DTEND;TZID=Europe/Helsinki:20220204T005959
DTSTAMP:20260421T133131Z
UID:b7d7d3910b1c4c11af5c82ce6249317f@climate-adapt.eea.europa.eu
CONTACT:elisabeth.gerhardt@boku.ac.at\, https://www.interreg-central.eu/Co
 ntent.Node/TEACHER-CE.html
CREATED:20220910T225658Z
DESCRIPTION:Le conseguenze dei cambiamenti climatici sono già visibili ne
 ll'Europa centrale e richiedono un migliore coordinamento della gestione d
 ei rischi. TEACHER-CE risponde a questa esigenza integrando e armonizzando
  nel pacchetto di strumenti TEACHER-CE i risultati dei progetti INTERREG\,
  Orizzonte 2020 e LIFE finanziati in precedenza. Questo strumento si conce
 ntrerà sulla gestione a prova di clima delle questioni connesse all'acqua
 \, quali inondazioni\, forti piogge e siccità\, misure di ritenzione idri
 ca su piccola scala e protezione delle risorse idriche attraverso una gest
 ione sostenibile dell'uso del suolo. L'attuazione diretta a livello locale
  e regionale aiuterà i comuni e le regioni ad adattare i loro processi ai
  cambiamenti climatici.
LAST-MODIFIED:20221005T192650Z
URL:https://climate-adapt.eea.europa.eu/it/more-events/teacher-2013-ce-fin
 al-conference
END:VEVENT
BEGIN:VTIMEZONE
TZID:Europe/Helsinki
X-LIC-LOCATION:Europe/Helsinki
BEGIN:STANDARD
DTSTART:20211031T030000
TZNAME:EET
TZOFFSETFROM:+0300
TZOFFSETTO:+0200
END:STANDARD
END:VTIMEZONE
END:VCALENDAR
