BEGIN:VCALENDAR
VERSION:2.0
PRODID:-//Plone.org//NONSGML plone.app.event//EN
X-WR-TIMEZONE:Europe/Helsinki
BEGIN:VEVENT
SUMMARY:Evento "Città migliori" per il futuro urbano
DTSTART;VALUE=DATE:20260324
DTEND;VALUE=DATE:20260328
DTSTAMP:20260419T183115Z
UID:c7996b235a2b426f8ecbafcbc606ba22@climate-adapt.eea.europa.eu
CATEGORIES:Cities,Event
CONTACT:https://urban-future.org/event/uf26-ljubljana/
CREATED:20260120T092917Z
DESCRIPTION:Organizzato dall'Austrian Urban Future (UFGC GmbH)\, i leader 
 delle città e i changemaker si incontrano a Lubiana per far progredire le
  città migliori. L'adattamento ai cambiamenti climatici è per lo più co
 ntemplato nel binario 4\, società resilienti. Urban Future sostiene un mo
 vimento dal basso verso l'alto in Europa con una comunità globale di 50.0
 00 responsabili del cambiamento urbano.
LAST-MODIFIED:20260120T092919Z
LOCATION:Ljubljana\, Slovenia
URL:https://climate-adapt.eea.europa.eu/it/more-events/the-uf-better-citie
 s-event
END:VEVENT
END:VCALENDAR
