BEGIN:VCALENDAR
VERSION:2.0
PRODID:-//Plone.org//NONSGML plone.app.event//EN
X-WR-TIMEZONE:Europe/Helsinki
BEGIN:VEVENT
SUMMARY:Internetinis seminaras „CLIMAAX“: Kaip pateikti paraišką
DTSTART;TZID=Europe/Helsinki:20240709T110000
DTEND;TZID=Europe/Helsinki:20240709T130000
DTSTAMP:20260420T045529Z
UID:7900b92dd339496986ba01fd20cfadc3@climate-adapt.eea.europa.eu
CREATED:20241218T204043Z
DESCRIPTION:2024 m. liepos 9 d.
LAST-MODIFIED:20250418T165826Z
URL:https://climate-adapt.eea.europa.eu/lt/mission/events/climaax-webinar-
 how-to-apply
END:VEVENT
BEGIN:VTIMEZONE
TZID:Europe/Helsinki
X-LIC-LOCATION:Europe/Helsinki
BEGIN:DAYLIGHT
DTSTART:20240331T040000
TZNAME:EEST
TZOFFSETFROM:+0200
TZOFFSETTO:+0300
END:DAYLIGHT
END:VTIMEZONE
END:VCALENDAR
