BEGIN:VCALENDAR
VERSION:2.0
PRODID:-//Plone.org//NONSGML plone.app.event//EN
X-WR-TIMEZONE:Europe/Helsinki
BEGIN:VEVENT
SUMMARY:Programos LIFE informacinės dienos (išorės renginys)
DTSTART;VALUE=DATE:20250513
DTEND;VALUE=DATE:20250516
DTSTAMP:20260419T172143Z
UID:5138dd86fc5f4cccb7e046d623449af1@climate-adapt.eea.europa.eu
CONTACT:https://vo-europe.swoogo.com/eu-life-info-days-2025/Home
CREATED:20250418T164221Z
DESCRIPTION:2025 m. gegužės 13–15 d.
LAST-MODIFIED:20250418T164222Z
URL:https://climate-adapt.eea.europa.eu/lt/mission/events/life-programme-i
 ngo-days-external-event
END:VEVENT
END:VCALENDAR
