BEGIN:VCALENDAR
VERSION:2.0
PRODID:-//Plone.org//NONSGML plone.app.event//EN
X-WR-TIMEZONE:Europe/Helsinki
BEGIN:VEVENT
SUMMARY:Trečiasis pasaulinis simpoziumas dėl komunikato dėl klimato kai
 tos (atnaujinta informacija apie COVID-19 –> atšaukta)
DTSTART;VALUE=DATE:20200706
DTEND;VALUE=DATE:20200709
DTSTAMP:20260421T160659Z
UID:5dfd0856960c4d48bd41361255405eb6@varnish:6081
CATEGORIES:event
CONTACT:https://www.haw-hamburg.de/en/ftz-nk/events/communication2020.html
CREATED:20250418T172238Z
DESCRIPTION:Klimato kaitos sudėtingumas reiškia\, kad skubiai reikia tin
 kamų požiūrių\, metodų ir priemonių šiai problemai spręsti. Simpoz
 iumas bus tarpdisciplininis renginys\, mobilizuojantis mokslininkus\, soci
 alinius judėjimus\, praktikus ir vyriausybinių agentūrų narius\, atlie
 kantis mokslinius tyrimus ir (arba) vykdantis klimato kaitos komunikacijos
  projektus visame pasaulyje.
LAST-MODIFIED:20250418T172238Z
LOCATION:Warsaw\, Poland
URL:https://climate-adapt.eea.europa.eu/lt/more-events/3rd-world-symposium
 -on-climate-change-communication
END:VEVENT
END:VCALENDAR
