BEGIN:VCALENDAR
VERSION:2.0
PRODID:-//Plone.org//NONSGML plone.app.event//EN
X-WR-TIMEZONE:Europe/Helsinki
BEGIN:VEVENT
SUMMARY:4-oji Baltijos Žemės konferencija
DTSTART;VALUE=DATE:20220530
DTEND;VALUE=DATE:20220605
DTSTAMP:20260421T040322Z
UID:f1d9a1e626024a899a38fe2abff6779f@varnish:6081
CATEGORIES:Regional Earth system,Baltic sea,Regional climate variability
CONTACT:https://www.baltic-earth.eu/events/087774/index.php.en
CREATED:20250418T172239Z
DESCRIPTION:4-oji Baltijos Žemės konferencija\, kurią organizuoja Žem
 ės sistemos mokslas Baltijos jūros regionui (Baltic Earth)\, vyks 2022 m
 . gegužės 30 d. – birželio 3 d. Jastarnijoje\, Helio pusiasalyje (Len
 kija). Konferencijoje aptariamos Baltijos Žemės vertinimo ataskaitų (BE
 AR) temos\, atspindinčios daugumą didžiųjų Baltijos Žemės iššūki
 ų ir mokslinių tyrimų temų per pastaruosius devynerius metus. Kai kuri
 os temos\, kurias reikia aptarti\, yra gamtiniai pavojai ir ekstremalūs 
 įvykiai\, jūros lygio dinamika ir pakrančių erozija\, tvaraus valdymo 
 galimybės\, praeities ir būsimų klimato pokyčių analizė ir modeliavi
 mas.
LAST-MODIFIED:20250418T172240Z
LOCATION:Jastarnia\, Hel Peninsula\, Poland
URL:https://climate-adapt.eea.europa.eu/lt/more-events/4th-baltic-earth-co
 nference
END:VEVENT
END:VCALENDAR
