BEGIN:VCALENDAR
VERSION:2.0
PRODID:-//Plone.org//NONSGML plone.app.event//EN
X-WR-TIMEZONE:Europe/Helsinki
BEGIN:VEVENT
SUMMARY:„Copernicus“ klimato kaitos paslaugų generalinės asamblėjos
  2023 m. leidimas
DTSTART;TZID=Europe/Helsinki:20230912T100000
DTEND;TZID=Europe/Helsinki:20230914T133000
DTSTAMP:20260422T035913Z
UID:85564983417345f99d492a82a9e37040@climate-adapt.eea.europa.eu
CATEGORIES:meeting
CONTACT:https://climate.copernicus.eu/6th-c3s-general-assembly
CREATED:20250418T172252Z
DESCRIPTION:Teikiant „Copernicus“ klimato kaitos paslaugą (C3S) teiki
 ama patikima informacija apie praeities\, dabarties ir ateities klimatą\,
  kuria remiama Europos prisitaikymo prie klimato kaitos politika. Tarnyba 
 rengia 6-ąją generalinę asamblėją\, kad apsvarstytų ankstesnius pasi
 ekimus ir kartu formuotų tarnybos ateitį. Šių metų asamblėjoje daugi
 ausia dėmesio skiriama duomenų aprėpčiai ir infrastruktūrai\, naudoto
 jų dalyvavimui ir komunikacijos veiklai\, taip pat naujojo „Copernicus
 “ energetikos centro\, vieno langelio principu veikiančio produktų ir 
 informacijos centro\, skirto energetikos sektoriui remti kintant klimatui\
 , veiklos pradžiai.
LAST-MODIFIED:20250418T172253Z
LOCATION:Brno\, Czechia
URL:https://climate-adapt.eea.europa.eu/lt/more-events/6th-c3s-general-ass
 embly
END:VEVENT
BEGIN:VTIMEZONE
TZID:Europe/Helsinki
X-LIC-LOCATION:Europe/Helsinki
BEGIN:DAYLIGHT
DTSTART:20230326T040000
TZNAME:EEST
TZOFFSETFROM:+0200
TZOFFSETTO:+0300
END:DAYLIGHT
END:VTIMEZONE
END:VCALENDAR
