BEGIN:VCALENDAR
VERSION:2.0
PRODID:-//Plone.org//NONSGML plone.app.event//EN
X-WR-TIMEZONE:Europe/Helsinki
BEGIN:VEVENT
SUMMARY:Prisitaikymo prie klimato kaitos ateitis 2020 m. (atnaujinta infor
 macija apie COVID-19 –> atidėta)
DTSTART;VALUE=DATE:20200427
DTEND;VALUE=DATE:20200502
DTSTAMP:20260419T141857Z
UID:a58e813494a246448c22c33f327d3a94@varnish:6081
CATEGORIES:event
CONTACT:http://adaptationfutures2020.in/
CREATED:20250418T172319Z
DESCRIPTION:6-ojoje tarptautinėje konferencijoje „Prisitaikymo ateitis
 “\, skirtoje visuotiniam prisitaikymui prie klimato kaitos\, numatoma to
 liau plėtoti bendrą temą „Prisitaikymo prie klimato kaitos veiksmų i
 r žinių\, kuriomis remiami veiksmai\, spartinimas“. Konferencijoje sie
 kiama išnagrinėti šį visa apimantį poreikį pasitelkiant įvairias te
 mines kryptis.
LAST-MODIFIED:20250418T172319Z
LOCATION:New Delhi\, India
URL:https://climate-adapt.eea.europa.eu/lt/more-events/adaptation-futures-
 2020
END:VEVENT
END:VCALENDAR
