BEGIN:VCALENDAR
VERSION:2.0
PRODID:-//Plone.org//NONSGML plone.app.event//EN
X-WR-TIMEZONE:Europe/Helsinki
BEGIN:VEVENT
SUMMARY:„Copernicus“ klimato kaitos paslaugų konferencija ir platform
 a\; generalinė asamblėja
DTSTART;VALUE=DATE:20210518
DTEND;VALUE=DATE:20210522
DTSTAMP:20260419T153151Z
UID:c4d8a0a7618d44e2b46992e75508bce6@varnish:6081
CATEGORIES:event
CONTACT:https://climate.copernicus.eu/c3s-conference-general-assembly?q=c3
 s-4th-general-assembly
CREATED:20250418T172352Z
DESCRIPTION:Susidomėjote klimato rizika ir atsparumu? Prisijunkite prie 
 „Copernicus“ klimato kaitos paslaugos (C3S) konferencijos ir konferenc
 ijos\; generalinės asamblėjos\, trijų popiečių internetinių pristaty
 mų ir diskusijų apie naujausius pokyčius klimato stebėsenos srityje\, 
 dalyvaujant pranešėjams ir diskusijų dalyviams iš pirmaujančių tarpt
 autinių mokslinių tyrimų institutų\, vyriausybės tarnybų ir privači
 ojo sektoriaus novatorių.
LAST-MODIFIED:20250418T172353Z
LOCATION:Online
URL:https://climate-adapt.eea.europa.eu/lt/more-events/c3s-conference-gene
 ral-assembly
END:VEVENT
END:VCALENDAR
