BEGIN:VCALENDAR
VERSION:2.0
PRODID:-//Plone.org//NONSGML plone.app.event//EN
X-WR-TIMEZONE:Europe/Helsinki
BEGIN:VEVENT
SUMMARY:Baigiamasis posėdis dėl prisitaikymo prie klimato kaitos modelia
 vimo tyrimo
DTSTART;TZID=Europe/Helsinki:20220318T133000
DTEND;TZID=Europe/Helsinki:20220318T150000
DTSTAMP:20260420T054126Z
UID:73d2b9b487d14892a50ab71cc9ad2d34@varnish:6081
CATEGORIES:event,policy making
CONTACT:https://www.cmcc.it/lectures_conferences/study-on-climate-adaptati
 on-modelling-final-briefing
CREATED:20250418T172801Z
DESCRIPTION:Prisitaikymo prie klimato kaitos modeliavimo tyrimo\, kurį u
 žsakė Europos Komisijos Klimato politikos GD ir atliko CMCC fondo koordi
 nuojama tarptautinių mokslininkų grupė\, rezultatai daugiausia susiję 
 su prisitaikymo prie klimato kaitos modeliavimu\, siekiant padėti priimti
  geriau informacija pagrįstus sprendimus. Šiame baigiamajame renginyje b
 us aptarti tyrimo rezultatai\, atsižvelgiant į naujausius prisitaikymo p
 rie klimato kaitos politikos pokyčius.
LAST-MODIFIED:20250418T172802Z
LOCATION:Online
URL:https://climate-adapt.eea.europa.eu/lt/more-events/final-meeting-on-th
 e-study-on-climate-adaptation-modelling
END:VEVENT
BEGIN:VTIMEZONE
TZID:Europe/Helsinki
X-LIC-LOCATION:Europe/Helsinki
BEGIN:STANDARD
DTSTART:20211031T030000
TZNAME:EET
TZOFFSETFROM:+0300
TZOFFSETTO:+0200
END:STANDARD
END:VTIMEZONE
END:VCALENDAR
