BEGIN:VCALENDAR
VERSION:2.0
PRODID:-//Plone.org//NONSGML plone.app.event//EN
X-WR-TIMEZONE:Europe/Helsinki
BEGIN:VEVENT
SUMMARY:Tarptautinė konferencija "Pakrančių valdymas"
DTSTART;TZID=Europe/Helsinki:20190924T100000
DTEND;TZID=Europe/Helsinki:20190926T180000
DTSTAMP:20260423T160224Z
UID:2130b549e89c4e3e9f5f8d87dba6d9d5@varnish:6081
CATEGORIES:climate change
CONTACT:https://ice.org.uk/events/ice-coastal-management-2019
CREATED:20250418T172926Z
DESCRIPTION:Šioje devintojoje pakrančių valdymo konferencijoje bus nagr
 inėjama\, kaip nauji pakrančių inžinerijos metodai gali būti integruo
 ti į vietos planavimą ir „vietos formavimą“\, kad būtų skatinamas
  vizualus prisitaikymas prie pakrančių pokyčių.
LAST-MODIFIED:20250418T172926Z
LOCATION:La Rochelle\, France
URL:https://climate-adapt.eea.europa.eu/lt/more-events/international-confe
 rence-coastal-management
END:VEVENT
BEGIN:VTIMEZONE
TZID:Europe/Helsinki
X-LIC-LOCATION:Europe/Helsinki
BEGIN:DAYLIGHT
DTSTART:20190331T040000
TZNAME:EEST
TZOFFSETFROM:+0200
TZOFFSETTO:+0300
END:DAYLIGHT
END:VTIMEZONE
END:VCALENDAR
