BEGIN:VCALENDAR
VERSION:2.0
PRODID:-//Plone.org//NONSGML plone.app.event//EN
X-WR-TIMEZONE:Europe/Helsinki
BEGIN:VEVENT
SUMMARY:Žemės stebėjimo atvėrimas prisitaikymui prie klimato kaitos
DTSTART;VALUE=DATE:20251208
DTEND;VALUE=DATE:20251213
DTSTAMP:20260420T174528Z
UID:bce085b1b28b49da9afc700bce94128f@climate-adapt.eea.europa.eu
CONTACT:https://workshops.issibern.ch/eo-for-climate-adaption/
CREATED:20260105T154512Z
DESCRIPTION:Žemės stebėjimo (ŽŪO) naudojimas vietos tikslais\, pavyzd
 žiui\, prisitaikant prie klimato kaitos arba įrodant nuostolius ir nuost
 olį\; žala gali susidurti su kliūtimis. Šio praktinio seminaro\, kurį
  organizuoja Tarptautinis kosmoso mokslo institutas (Šveicarija)\, tiksla
 s – įvertinti EO tinkamumą naudoti iš vietos perspektyvos. Be to\, bu
 s nustatytos kliūtys ir tolesni veiksmai\, taip „atveriant“ EVV\, kad
  būtų įvykdytas atvirojo mokslo pažadas.
LAST-MODIFIED:20260105T154512Z
LOCATION:Bern\, Switzerland
URL:https://climate-adapt.eea.europa.eu/lt/more-events/opening-up-earth-ob
 servations-for-climate-adaptation
END:VEVENT
END:VCALENDAR
