BEGIN:VCALENDAR
VERSION:2.0
PRODID:-//Plone.org//NONSGML plone.app.event//EN
X-WR-TIMEZONE:Europe/Helsinki
BEGIN:VEVENT
SUMMARY:2024 m. politikos forumas „Atsparumas klimato kaitai. Pasiruoši
 mas ateičiai
DTSTART;TZID=Europe/Helsinki:20240417T153000
DTEND;TZID=Europe/Helsinki:20240417T180000
DTSTAMP:20260420T104940Z
UID:73849ffa8bfc4efaafe0b749374f674d@climate-adapt.eea.europa.eu
CATEGORIES:event,Education for Climate
CONTACT:https://education-for-climate.ec.europa.eu/community/climate_edu_r
 esources/event/policy-forum-2024-climate-resilience-preparing-future
CREATED:20250418T173136Z
DESCRIPTION:Šis ES finansuojamas forumas „Švietimas klimato labui“ y
 ra bendruomenės laboratorija\, kurioje sutelkiamos unikalios perspektyvos
  ir nagrinėjamos strategijos\, kaip didinti atsparumą\, prisitaikyti pri
 e pokyčių ir mažinti būsimą riziką. Švietimas klimato klausimais yr
 a pavyzdinė Europos švietimo erdvės iniciatyva iki 2025 m. ir veikia ka
 ip Europos dalyvaujamoji bendruomenė\, remianti mokymą ir mokymąsi siek
 iant žaliosios pertvarkos ir darnaus vystymosi.
LAST-MODIFIED:20250418T173136Z
LOCATION:Online
URL:https://climate-adapt.eea.europa.eu/lt/more-events/policy-forum-2024-c
 limate-resilience-preparing-for-the-future
END:VEVENT
BEGIN:VTIMEZONE
TZID:Europe/Helsinki
X-LIC-LOCATION:Europe/Helsinki
BEGIN:DAYLIGHT
DTSTART:20240331T040000
TZNAME:EEST
TZOFFSETFROM:+0200
TZOFFSETTO:+0300
END:DAYLIGHT
END:VTIMEZONE
END:VCALENDAR
