BEGIN:VCALENDAR
VERSION:2.0
PRODID:-//Plone.org//NONSGML plone.app.event//EN
X-WR-TIMEZONE:Europe/Helsinki
BEGIN:VEVENT
SUMMARY:Internetinis seminaras „Jūrinių teritorijų planavimas keičia
 ntis klimatui“
DTSTART;TZID=Europe/Helsinki:20230209T120000
DTEND;TZID=Europe/Helsinki:20230209T130000
DTSTAMP:20260420T065553Z
UID:8717a4f5f98c46378345e51f702f363d@varnish:6081
CATEGORIES:Webinar,Climate impact,Maritime Spatial Planning
CREATED:20250418T173512Z
DESCRIPTION:Jūrinių teritorijų planavimo (JEP) tikslas – patenkinti d
 idėjančią jūrų erdvės ir išteklių paklausą tradiciniuose ir besif
 ormuojančiuose sektoriuose\, kartu išsaugant jūrų ekosistemas ir jų f
 unkcijas. Kadangi JEP yra ilgalaikis ir plataus masto procesas\, jame tur
 ėtų būti atsižvelgiama į tiesioginį ir netiesioginį klimato kaitos 
 poveikį. Internetiniame seminare dalyviai iš miestų ir savivaldybių\, 
 apskričių\, regionų\, jūrų ir jūrininkystės institucijų\, jūrų i
 r pakrančių ekonominės veiklos vykdytojų\, akademinės bendruomenės i
 r pilietinės visuomenės organizacijų bus informuojami apie klimato kait
 os poveikį ir apie galimybes užtikrinti sektoriaus atsparumą klimato ka
 itai. Būtina registracija.
LAST-MODIFIED:20250418T173512Z
LOCATION:Online
URL:https://climate-adapt.eea.europa.eu/lt/more-events/webinar-on-maritime
 -spatial-planning-in-a-changing-climate
END:VEVENT
BEGIN:VTIMEZONE
TZID:Europe/Helsinki
X-LIC-LOCATION:Europe/Helsinki
BEGIN:STANDARD
DTSTART:20221030T030000
TZNAME:EET
TZOFFSETFROM:+0300
TZOFFSETTO:+0200
END:STANDARD
END:VTIMEZONE
END:VCALENDAR
