BEGIN:VCALENDAR
VERSION:2.0
PRODID:-//Plone.org//NONSGML plone.app.event//EN
X-WR-TIMEZONE:Europe/Helsinki
BEGIN:VEVENT
SUMMARY:Copernicus klimata pārmaiņu pakalpojumu konference unamp\; Ģene
 rālā asambleja
DTSTART;VALUE=DATE:20210518
DTEND;VALUE=DATE:20210522
DTSTAMP:20260420T104142Z
UID:c4d8a0a7618d44e2b46992e75508bce6@varnish:6081
CATEGORIES:event
CONTACT:https://climate.copernicus.eu/c3s-conference-general-assembly?q=c3
 s-4th-general-assembly
CREATED:20250418T123630Z
DESCRIPTION:Interesē klimata risks un noturība? Pievienojieties Copernic
 us klimata pārmaiņu pakalpojuma (C3S) konferencei unamp\; Ģenerālā as
 ambleja\, trīs pēcpusdienas ar tiešsaistes prezentācijām un debatēm 
 par jaunākajām norisēm klimata monitoringā\, piedaloties referentiem u
 n paneļdiskusiju dalībniekiem no vadošajiem starptautiskajiem pētniec
 ības institūtiem\, valdības dienestiem un privātā sektora novatoriem.
LAST-MODIFIED:20250418T123630Z
LOCATION:Online
URL:https://climate-adapt.eea.europa.eu/lv/more-events/c3s-conference-gene
 ral-assembly
END:VEVENT
END:VCALENDAR
