BEGIN:VCALENDAR
VERSION:2.0
PRODID:-//Plone.org//NONSGML plone.app.event//EN
X-WR-TIMEZONE:Europe/Helsinki
BEGIN:VEVENT
SUMMARY:COP26 – īpašā sesija: Augstas ietekmes klimata risinājumi
DTSTART;TZID=Europe/Helsinki:20211110T194500
DTEND;TZID=Europe/Helsinki:20211110T204500
DTSTAMP:20260420T061000Z
UID:f2c6365b3d5d4e8faa5a1e40f0281d3f@varnish:6081
CATEGORIES:Clean technologies,Innovation,Profitable climate solutions,Prof
 itable climate solutions
CONTACT:https://solutions.solarimpulse.com/e-pitch-high-impact-climate-sol
 utions
CREATED:20250418T123826Z
DESCRIPTION:Šis pasākums parādīs\, kā visrentablākie klimata risinā
 jumi veicina COP21 klimata mērķu sasniegšanu\, un iesaistīsies sarunā
  ar iestādēm\, lai paātrinātu to īstenošanu. Pēc Eiropas Investīci
 ju bankas direktora Chris Hurst un Bertrand Piccard ievadrunas no Solar Im
 pulse Foundation puses tiks demonstrēta virkne risinājumu ar lielu ietek
 mi dažādās nozarēs\, kam sekos divas paneļdiskusiju kārtas.
LAST-MODIFIED:20250418T123826Z
LOCATION:Online and Glasgow\, UK
URL:https://climate-adapt.eea.europa.eu/lv/more-events/cop26-2013-special-
 session-high-impact-climate-solutions
END:VEVENT
BEGIN:VTIMEZONE
TZID:Europe/Helsinki
X-LIC-LOCATION:Europe/Helsinki
BEGIN:STANDARD
DTSTART:20211031T030000
TZNAME:EET
TZOFFSETFROM:+0300
TZOFFSETTO:+0200
END:STANDARD
END:VTIMEZONE
END:VCALENDAR
