BEGIN:VCALENDAR
VERSION:2.0
PRODID:-//Plone.org//NONSGML plone.app.event//EN
X-WR-TIMEZONE:Europe/Helsinki
BEGIN:VEVENT
SUMMARY:Copernicus klimata pārmaiņu pakalpojums — lietotāju mācību 
 pakalpojumi: Apmācīt instruktoru kursus
DTSTART;TZID=Europe/Helsinki:20180917T100000
DTEND;TZID=Europe/Helsinki:20181130T180000
DTSTAMP:20260419T200307Z
UID:a98e80d1b1904563ad20477d433c793c@varnish:6081
CONTACT:https://climate.copernicus.eu/c3s-user-learning-services-train-tra
 iner-course
CREATED:20250418T123830Z
DESCRIPTION:Copernicus klimata pārmaiņu pakalpojuma (C3S) lietotāju mā
 cību pakalpojumi piedāvā bezmaksas apmācības pasākumus un resursus p
 ar to\, kā izmantot Copernicus klimata datu krātuves (CDS) platformu un 
 tās saturu\, lai atbalstītu jūsu klimata pārmaiņu ietekmes novērtēj
 umus. Kursi apvieno tiešsaistes mācības un klātienes pasākumus 30 val
 stīs visā Eiropā.
LAST-MODIFIED:20250418T123831Z
LOCATION:across Europe
URL:https://climate-adapt.eea.europa.eu/lv/more-events/copernicus-climate-
 change-service-user-learning-services-train-the-trainer-course
END:VEVENT
BEGIN:VTIMEZONE
TZID:Europe/Helsinki
X-LIC-LOCATION:Europe/Helsinki
BEGIN:DAYLIGHT
DTSTART:20180325T040000
TZNAME:EEST
TZOFFSETFROM:+0200
TZOFFSETTO:+0300
END:DAYLIGHT
BEGIN:STANDARD
DTSTART:20181028T030000
TZNAME:EET
TZOFFSETFROM:+0300
TZOFFSETTO:+0200
END:STANDARD
END:VTIMEZONE
END:VCALENDAR
