BEGIN:VCALENDAR
VERSION:2.0
PRODID:-//Plone.org//NONSGML plone.app.event//EN
X-WR-TIMEZONE:Europe/Helsinki
BEGIN:VEVENT
SUMMARY:ES Zaļā nedēļa 2018
DTSTART;TZID=Europe/Helsinki:20180521T100000
DTEND;TZID=Europe/Helsinki:20180525T180000
DTSTAMP:20260420T012524Z
UID:8ba2413cc93d405785d4c18034cf4c0f@varnish:6081
CATEGORIES:event
CONTACT:https://www.eugreenweek.eu/
CREATED:20250418T124044Z
DESCRIPTION:2018. gada ES Zaļā nedēļa notiks dažādās Eiropas pilsē
 tās\, un tajā tiks pētīti veidi\, kā ES palīdz pilsētām kļūt par
  labākām dzīves un darba vietām. Sesijas tiek organizētas par tādām
  tēmām kā pilsētplānošana un attīstība saistībā ar pielāgošano
 s klimata pārmaiņām\, klimata pakalpojumi un atbalsts ilgtspējīgu pil
 sētu finansēšanai. Tiks veicinātas arī pieejas un instrumenti\, lai a
 pmainītos ar paraugpraksi\, iesaistītu vietējās iestādes un iedzīvot
 ājus un mudinātu viņus dalīties savā redzējumā par ilgtspējīgu n
 ākotni.
LAST-MODIFIED:20250418T124044Z
LOCATION:Different European cities
URL:https://climate-adapt.eea.europa.eu/lv/more-events/eu-green-week-2018
END:VEVENT
BEGIN:VTIMEZONE
TZID:Europe/Helsinki
X-LIC-LOCATION:Europe/Helsinki
BEGIN:DAYLIGHT
DTSTART:20180325T040000
TZNAME:EEST
TZOFFSETFROM:+0200
TZOFFSETTO:+0300
END:DAYLIGHT
END:VTIMEZONE
END:VCALENDAR
