BEGIN:VCALENDAR
VERSION:2.0
PRODID:-//Plone.org//NONSGML plone.app.event//EN
X-WR-TIMEZONE:Europe/Helsinki
BEGIN:VEVENT
SUMMARY:ES Zaļā nedēļa 2019
DTSTART;VALUE=DATE:20190513
DTEND;VALUE=DATE:20190519
DTSTAMP:20260419T183041Z
UID:15ba64fe6b9740f99320e819016e4824@varnish:6081
CATEGORIES:event
CONTACT:https://ec.europa.eu/info/events/eu-green-week-2019_en
CREATED:20250418T124031Z
DESCRIPTION:2019. gada ES Zaļās nedēļas uzmanības centrā būs vides 
 politikas īstenošanas process. Tas ietvers pasākumus visā Eiropā\, ar
  oficiālo atklāšanas pasākumu 13. maijā vienā no ES dalībvalstīm u
 n augsta līmeņa samitu Briselē no 15. līdz 17. maijam. Zaļās nedēļ
 as noslēgums notiks Briseles konferences beigās\, un tajā tiks izklāst
 īti šīs nedēļas politiskie secinājumi.
LAST-MODIFIED:20250418T124031Z
LOCATION:Location: across Europe
URL:https://climate-adapt.eea.europa.eu/lv/more-events/eu-green-week-2019
END:VEVENT
END:VCALENDAR
