BEGIN:VCALENDAR
VERSION:2.0
PRODID:-//Plone.org//NONSGML plone.app.event//EN
X-WR-TIMEZONE:Europe/Helsinki
BEGIN:VEVENT
SUMMARY:PLACARD konference: Pielāgošanās ekstrēmiem (atcelta Covid-19 
 vīrusa dēļ\; atjauninājums gaidāms)
DTSTART;VALUE=DATE:20200325
DTEND;VALUE=DATE:20200327
DTSTAMP:20260420T110906Z
UID:a2dc374f4f084023b60ee0285a7108a0@varnish:6081
CATEGORIES:PLAtform for Climate Adaptation and Risk reDuction,event
CONTACT:https://www.placard-network.eu/adapting-to-extremes-exploring-the-
 challenges-of-the-new-decade/
CREATED:20250418T124618Z
DESCRIPTION:PLACARD noslēguma konferences laikā pētnieki\, politikas ve
 idotāji un praktiķi iepazīstinās un apspriedīs norises saistībā ar 
 saskaņotību un sadarbību starp kopienu\, kas nodarbojas ar pielāgošan
 os klimata pārmaiņām\, un katastrofu riska mazināšanas kopienu. Tikai
  ielūgums.
LAST-MODIFIED:20250418T124618Z
LOCATION:Brussels\, Belgium
URL:https://climate-adapt.eea.europa.eu/lv/more-events/placard-conference-
 adapting-to-extremes
END:VEVENT
END:VCALENDAR
