BEGIN:VCALENDAR
VERSION:2.0
PRODID:-//Plone.org//NONSGML plone.app.event//EN
X-WR-TIMEZONE:Europe/Helsinki
BEGIN:VEVENT
SUMMARY:Sadarbība klimatrīcības jomā Alpos
DTSTART;VALUE=DATE:20200915
DTEND;VALUE=DATE:20200918
DTSTAMP:20260419T142032Z
UID:489ef666f3a14427b48d711bc101c2e8@varnish:6081
CATEGORIES:event
CONTACT:https://www.alpconv.org/en/home/organization/thematic-working-bodi
 es/acb-matchmaking-workshop/
CREATED:20250418T124942Z
DESCRIPTION:Alpu Klimata padome aicina ieinteresētās personas no visām 
 darba jomām piedalīties tiešsaistes partneru piemeklēšanas darbsemin
 ārā. Programma ietver ievadrunas par veiksmīgām partnerībām\, intera
 ktīvus darbseminārus\, ieguldījumu tiešsaistes sadarbības rīkos un m
 etodēs un perspektīvu par turpmākiem pasākumiem virzībā uz klimatnei
 trāliem un klimatnoturīgiem Alpiem 2050. gadā.
LAST-MODIFIED:20250418T124943Z
LOCATION:Online
URL:https://climate-adapt.eea.europa.eu/lv/more-events/teaming-up-for-clim
 ate-action-in-the-alps
END:VEVENT
END:VCALENDAR
