BEGIN:VCALENDAR
VERSION:2.0
PRODID:-//Plone.org//NONSGML plone.app.event//EN
X-WR-TIMEZONE:Europe/Helsinki
BEGIN:VEVENT
SUMMARY:Tīmekļseminārs par Climate-ADAPT pilsētvides rīkiem
DTSTART;TZID=Europe/Helsinki:20191023T120000
DTEND;TZID=Europe/Helsinki:20191023T130000
DTSTAMP:20260421T160711Z
UID:fbe6fb75db5a448d8eabf8a091ee880b@varnish:6081
CREATED:20250418T125129Z
DESCRIPTION:Šā Eiropas Klimatadaptācijas platformas (Climate-ADAPT) ses
 tā tīmekļsemināra mērķis ir uzlabot informētību par Climate-ADAPT 
 pilsētu zināšanu elementiem un rīkiem un veicināt to izmantošanu\, p
 iemēram\, vietējā plānošanā\, izpratnes veidošanā\, līdzdalības 
 procesos un projektu formulēšanā.
LAST-MODIFIED:20250418T125129Z
LOCATION:webinar
URL:https://climate-adapt.eea.europa.eu/lv/more-events/webinar-on-climate-
 adapt-urban-tools
END:VEVENT
BEGIN:VTIMEZONE
TZID:Europe/Helsinki
X-LIC-LOCATION:Europe/Helsinki
BEGIN:DAYLIGHT
DTSTART:20190331T040000
TZNAME:EEST
TZOFFSETFROM:+0200
TZOFFSETTO:+0300
END:DAYLIGHT
END:VTIMEZONE
END:VCALENDAR
