BEGIN:VCALENDAR
VERSION:2.0
PRODID:-//Plone.org//NONSGML plone.app.event//EN
X-WR-TIMEZONE:Europe/Helsinki
BEGIN:VEVENT
SUMMARY:Konferenza tal-2024 dwar id-Deċennju tal-Oċeani
DTSTART;VALUE=DATE:20240410
DTEND;VALUE=DATE:20240414
DTSTAMP:20260420T115504Z
UID:742153a0e76c40df98bdecdcef045fd5@climate-adapt.eea.europa.eu
CATEGORIES:event,Coastal areas and oceans
CONTACT:https://oceandecade.org/events/2024-ocean-decade-conference/
CREATED:20250418T230939Z
DESCRIPTION:Din il-konferenza globali tlaqqa’ flimkien il-komunità tad-
 Deċennju tal-Oċeani\, stabbilita mid-Deċennju tan-NU għax-Xjenza dwar 
 l-Oċeani għall-Iżvilupp Sostenibbli (2021-2030)\, u s-sħab biex jiddis
 kutu u jiċċelebraw il-kisbiet u jistabbilixxu prijoritajiet konġunti g
 ħall-futur tad-Deċennju. Il-konferenza se tkun ikkaratterizzata minn għ
 exieren ta’ avvenimenti satellitari li jkopru kwistjonijiet kritiċi bħ
 all-adattament għat-tibdil fil-klima\, il-ġestjoni sostenibbli tal-bijod
 iversità\, u l-perikli naturali.
LAST-MODIFIED:20250418T230940Z
LOCATION:Barcelona\, Spain
URL:https://climate-adapt.eea.europa.eu/mt/more-events/2024-ocean-decade-c
 onference
END:VEVENT
END:VCALENDAR
