BEGIN:VCALENDAR
VERSION:2.0
PRODID:-//Plone.org//NONSGML plone.app.event//EN
X-WR-TIMEZONE:Europe/Helsinki
BEGIN:VEVENT
SUMMARY:Ir-4 Konferenza dwar id-Dinja Baltika
DTSTART;VALUE=DATE:20220530
DTEND;VALUE=DATE:20220605
DTSTAMP:20260419T141842Z
UID:f1d9a1e626024a899a38fe2abff6779f@varnish:6081
CATEGORIES:Regional Earth system,Baltic sea,Regional climate variability
CONTACT:https://www.baltic-earth.eu/events/087774/index.php.en
CREATED:20250418T231007Z
DESCRIPTION:Ir-raba’ Konferenza dwar id-Dinja Baltika\, organizzata mis-
 Sistema Dinjija tax-Xjenza għar-Reġjun tal-Baħar Baltiku (id-Dinja Balt
 ika)\, se ssir f’Jastarnia\, il-Peniżola ta’ Hel\, il-Polonja mit-30 
 ta’ Mejju 2022 sat-3 ta’ Ġunju 2022. Il-konferenza tkopri s-suġġett
 i tar-Rapporti ta’ Valutazzjoni tad-Dinja Baltika (BEAR)\, li jirriflett
 u l-maġġoranza tal-isfidi l-kbar u t-temi ta’ riċerka tad-Dinja Balti
 ka matul l-aħħar disa’ snin. Xi suġġetti li għandhom jiġu diskussi
  huma l-perikli naturali u l-avvenimenti estremi\, id-dinamika fil-livell 
 tal-baħar u l-erożjoni kostali\, l-għażliet ta’ ġestjoni sostenibbl
 i\, l-analiżi u l-immudellar tat-tibdil fil-klima tal-passat u tal-futur 
 fost l-oħrajn.
LAST-MODIFIED:20250418T231007Z
LOCATION:Jastarnia\, Hel Peninsula\, Poland
URL:https://climate-adapt.eea.europa.eu/mt/more-events/4th-baltic-earth-co
 nference
END:VEVENT
END:VCALENDAR
