BEGIN:VCALENDAR
VERSION:2.0
PRODID:-//Plone.org//NONSGML plone.app.event//EN
X-WR-TIMEZONE:Europe/Helsinki
BEGIN:VEVENT
SUMMARY:Konferenza dwar is-Servizzi tat-Tibdil fil-Klima ta' Copernicus & 
 Assemblea Ġenerali
DTSTART;VALUE=DATE:20210518
DTEND;VALUE=DATE:20210522
DTSTAMP:20260419T172155Z
UID:c4d8a0a7618d44e2b46992e75508bce6@varnish:6081
CATEGORIES:event
CONTACT:https://climate.copernicus.eu/c3s-conference-general-assembly?q=c3
 s-4th-general-assembly
CREATED:20250418T231203Z
DESCRIPTION:Interessat fir-riskju u r-reżiljenza għall-klima? Ingħaqad 
 mal-Konferenza u l-amp tas-Servizz dwar it-Tibdil fil-Klima ta’ Copernic
 us (C3S)\; Assemblea Ġenerali\, tliet waranofsinhari ta’ preżentazzjon
 ijiet online u dibattitu dwar l-aħħar żviluppi fil-monitoraġġ tal-kli
 ma\, ma’ kelliema u membri tal-bord minn istituti internazzjonali ewleni
 n tar-riċerka\, servizzi tal-gvern u innovaturi tas-settur privat.
LAST-MODIFIED:20250418T231203Z
LOCATION:Online
URL:https://climate-adapt.eea.europa.eu/mt/more-events/c3s-conference-gene
 ral-assembly
END:VEVENT
END:VCALENDAR
