BEGIN:VCALENDAR
VERSION:2.0
PRODID:-//Plone.org//NONSGML plone.app.event//EN
X-WR-TIMEZONE:Europe/Helsinki
BEGIN:VEVENT
SUMMARY:Webinar tal-NSO: soluzzjonijiet ta’ osservazzjoni tad-dinja għa
 ll-adattament u l-mitigazzjoni tat-tibdil fil-klima
DTSTART;TZID=Europe/Helsinki:20230331T120000
DTEND;TZID=Europe/Helsinki:20230331T133000
DTSTAMP:20260421T063004Z
UID:97452ffc7cc04b718b7bb6abcfda914e@climate-adapt.eea.europa.eu
CATEGORIES:webinar,EO,NSO
CONTACT:https://events.teams.microsoft.com/event/77726ed0-7953-4fc7-a29e-6
 4147695ac7f@d6e513b7-5947-4e1a-a8de-77d9c9188916
CREATED:20250418T231640Z
DESCRIPTION:L-Uffiċċju Spazjali tan-Netherlands (NSO) se jispjega l-valu
 r miżjud tas-servizzi bbażati fuq id-data satellitari u kif għandhom ji
 ġu implimentati. Barra minn hekk\, il-kumpaniji se jippreżentaw is-servi
 zzi li żviluppaw. Il-parteċipanti se jitgħallmu aktar dwar is-servizzi 
 li dawn il-kumpaniji jridu joffru\, u dwar x’hemm bżonn biex jinbeda pr
 oġett ta’ innovazzjoni bħala amministrazzjoni pubblika flimkien mas-su
 q.
LAST-MODIFIED:20250418T231641Z
LOCATION:Online
URL:https://climate-adapt.eea.europa.eu/mt/more-events/eo-solutions-for-cl
 imate-adaptation-and-mitigation
END:VEVENT
BEGIN:VTIMEZONE
TZID:Europe/Helsinki
X-LIC-LOCATION:Europe/Helsinki
BEGIN:DAYLIGHT
DTSTART:20230326T040000
TZNAME:EEST
TZOFFSETFROM:+0200
TZOFFSETTO:+0300
END:DAYLIGHT
END:VTIMEZONE
END:VCALENDAR
