BEGIN:VCALENDAR
VERSION:2.0
PRODID:-//Plone.org//NONSGML plone.app.event//EN
X-WR-TIMEZONE:Europe/Helsinki
BEGIN:VEVENT
SUMMARY:Konferenza Eurosoil 2020/2021
DTSTART;VALUE=DATE:20210823
DTEND;VALUE=DATE:20210829
DTSTAMP:20260420T231850Z
UID:a9abb30f895a4af1b653173578165e58@varnish:6081
CATEGORIES:event,event
CONTACT:https://eurosoil2020.com/
CREATED:20250418T231826Z
DESCRIPTION:L-objettiv ta’ din il-konferenza huwa li tlaqqa’ flimkien 
 xjenzati ewlenin tar-riċerka li jaħdmu fuq suġġetti relatati mal-ħamr
 ija u partijiet ikkonċernati li jittrattaw kwistjonijiet ta’ tħassib p
 ubbliku\, bħad-degradazzjoni tal-ħamrija u l-konsegwenzi tat-tibdil fil-
 klima. Ir-rwol importanti ta’ tqarrib tal-prattikanti tal-ħamrija biex 
 jittraduċu l-għarfien xjentifiku fil-prattika se jiġi enfasizzat matul 
 il-konferenza.
LAST-MODIFIED:20250418T231827Z
LOCATION:Geneva\, Switzerland
URL:https://climate-adapt.eea.europa.eu/mt/more-events/eurosoil-conference
END:VEVENT
END:VCALENDAR
