BEGIN:VCALENDAR
VERSION:2.0
PRODID:-//Plone.org//NONSGML plone.app.event//EN
X-WR-TIMEZONE:Europe/Helsinki
BEGIN:VEVENT
SUMMARY:Konferenza FLOODrisk 2016
DTSTART;TZID=Europe/Helsinki:20161017T100000
DTEND;TZID=Europe/Helsinki:20161021T235500
DTSTAMP:20260421T062804Z
UID:be3f0f220afd402bb7b7d5df00113e47@localhost:8000
CONTACT:http://floodrisk2016.net/
CREATED:20250418T231858Z
DESCRIPTION:FLOODrisk 2016 se jesplora l-avvanzi fir-riċerka fl-analiżi 
 tar-riskju tal-għargħar u l-innovazzjonijiet fil-prattika tal-immaniġġ
 jar tar-riskju tal-għargħar. Il-konferenza se tikkunsidra l-aspetti koll
 ha tar-riskju ta’ għargħar u se tkopri l-kawżi tal-għargħar\, l-imp
 atti tagħhom fuq in-nies\, il-proprjetà u l-ambjent\, u l-portafolli ta
 ’ miżuri ta’ ġestjoni tar-riskju.
LAST-MODIFIED:20250418T231858Z
LOCATION:Lyon\, France
URL:https://climate-adapt.eea.europa.eu/mt/more-events/floodrisk-2016-conf
 erence
END:VEVENT
BEGIN:VTIMEZONE
TZID:Europe/Helsinki
X-LIC-LOCATION:Europe/Helsinki
BEGIN:DAYLIGHT
DTSTART:20160327T040000
TZNAME:EEST
TZOFFSETFROM:+0200
TZOFFSETTO:+0300
END:DAYLIGHT
END:VTIMEZONE
END:VCALENDAR
