BEGIN:VCALENDAR
VERSION:2.0
PRODID:-//Plone.org//NONSGML plone.app.event//EN
X-WR-TIMEZONE:Europe/Helsinki
BEGIN:VEVENT
SUMMARY:Sessjoni ta' ħidma tal-JPI dwar il-Klima - Servizzi mmexxija mid-
 domanda fl-Ewropa
DTSTART;VALUE=DATE:20150611
DTEND;VALUE=DATE:20150613
DTSTAMP:20260422T112114Z
UID:9819828b50914575af922e27e8cba3a3@localhost:8001
CONTACT:http://www.jpi-climate.eu/news-events/events/10860208/Workshop-Dem
 and-driven-climate-services-in-Europe-11-12-June-2015-Brussels
CREATED:20250418T232147Z
LAST-MODIFIED:20250418T232147Z
LOCATION:Brussels\, Belgium
URL:https://climate-adapt.eea.europa.eu/mt/more-events/jpi-climate-worksho
 p-demand-driven-services-in-europe
END:VEVENT
END:VCALENDAR
