BEGIN:VCALENDAR
VERSION:2.0
PRODID:-//Plone.org//NONSGML plone.app.event//EN
X-WR-TIMEZONE:Europe/Helsinki
BEGIN:VEVENT
SUMMARY:Jiem ta’ Informazzjoni LIFE
DTSTART;TZID=Europe/Helsinki:20260428T100000
DTEND;TZID=Europe/Helsinki:20260430T133000
DTSTAMP:20260424T061653Z
UID:bd7a4bbd7d25463199c40e94ff232683@climate-adapt.eea.europa.eu
CONTACT:https://cinea.ec.europa.eu/news-events/news/getting-ready-life-cal
 ls-proposals-2026-save-dates-2026-02-12_en
CREATED:20260422T170554Z
DESCRIPTION:Wara l-pubblikazzjoni tas-Sejħiet għal proposti tal-LIFE 202
 6 fil-21 ta’ April\, se tiġi organizzata serje ta’ jiem ta’ informa
 zzjoni online mill-Aġenzija Eżekuttiva Ewropea għall-Klima\, għall-Inf
 rastruttura u għall-Ambjent (CINEA) biex tiggwida lill-applikanti potenzj
 ali. Sessjonijiet ta’ informazzjoni ddedikati se jipprovdu għarfien dwa
 r is-suġġetti ta’ prijorità għall-2026 u jagħtu pariri dwar kif tit
 ħejja proposta tajba għal proġett. L-adattament għat-tibdil fil-klima 
 huwa wieħed mill-oqsma ewlenin fis-sejħa għall-proposti u s-sessjoni ri
 levanti għall-adattament se ssir fit-tieni jum tal-Jiem ta’ Informazzjo
 ni.
LAST-MODIFIED:20260422T170555Z
LOCATION:Online event
URL:https://climate-adapt.eea.europa.eu/mt/more-events/life-info-days
END:VEVENT
BEGIN:VTIMEZONE
TZID:Europe/Helsinki
X-LIC-LOCATION:Europe/Helsinki
BEGIN:DAYLIGHT
DTSTART:20260329T040000
TZNAME:EEST
TZOFFSETFROM:+0200
TZOFFSETTO:+0300
END:DAYLIGHT
END:VTIMEZONE
END:VCALENDAR
