BEGIN:VCALENDAR
VERSION:2.0
PRODID:-//Plone.org//NONSGML plone.app.event//EN
X-WR-TIMEZONE:Europe/Helsinki
BEGIN:VEVENT
SUMMARY:L-GĦALLIEMA – Konferenza Finali tal-KE
DTSTART;VALUE=DATE:20220202
DTEND;VALUE=DATE:20220205
DTSTAMP:20260419T183602Z
UID:086153b436af4d51acbb8000122ef7ae@varnish:6081
CONTACT:elisabeth.gerhardt@boku.ac.at\, https://www.interreg-central.eu/Co
 ntent.Node/TEACHER-CE.html
CREATED:20250418T232726Z
DESCRIPTION:Il-konsegwenzi tat-tibdil fil-klima diġà huma viżibbli fl-E
 wropa ċentrali\, u jitolbu koordinazzjoni aħjar tal-ġestjoni tar-riskju
 . TEACHER-CE tindirizza din il-ħtieġa billi tintegra u tarmonizza r-riż
 ultati ta’ proġetti INTERREG\, Orizzont 2020\, u Life li qabel kienu ff
 inanzjati fis-Sett ta’ Għodod TEACHER-CE. Din l-għodda se tiffoka fuq 
 il-ġestjoni reżistenti għall-klima ta’ kwistjonijiet relatati mal-ilm
 a bħall-għargħar\, ix-xita qawwija u l-prevenzjoni tar-riskju ta’ nix
 fa\, miżuri żgħar għaż-żamma tal-ilma u l-protezzjoni tar-riżorsi t
 al-ilma permezz ta’ ġestjoni sostenibbli tal-użu tal-art. L-implimenta
 zzjoni lokali u reġjonali diretta se tgħin lill-muniċipalitajiet u lir-
 reġjuni jadattaw il-proċessi tagħhom għall-kundizzjonijiet klimatiċi 
 li qed jinbidlu.
LAST-MODIFIED:20250418T232726Z
URL:https://climate-adapt.eea.europa.eu/mt/more-events/teacher-2013-ce-fin
 al-conference
END:VEVENT
END:VCALENDAR
