BEGIN:VCALENDAR
VERSION:2.0
PRODID:-//Plone.org//NONSGML plone.app.event//EN
X-WR-TIMEZONE:Europe/Helsinki
BEGIN:VEVENT
SUMMARY:Avveniment ta’ “Bliet Aħjar” tal-Futur Urban
DTSTART;VALUE=DATE:20260324
DTEND;VALUE=DATE:20260328
DTSTAMP:20260419T183114Z
UID:8aee55c69fed42bc8e9f5102c623905f@climate-adapt.eea.europa.eu
CATEGORIES:Cities,Event
CONTACT:https://urban-future.org/event/uf26-ljubljana/
CREATED:20260120T092439Z
DESCRIPTION:Organizzat mill-Futur Urban Awstrijak (UFGC GmbH)\, il-mexxejj
 a tal-bliet u dawk li jfasslu l-bidla jiltaqgħu f’Ljubljana biex imexxu
  bliet aħjar ’il quddiem. L-adattament għat-tibdil fil-klima huwa kope
 rt l-aktar fit-triq it-tajba 4\, soċjetajiet reżiljenti. Il-Futur Urban 
 jappoġġja moviment minn isfel għal fuq fl-Ewropa b’komunità globali 
 ta’ 50\,000 persuna li jfasslu l-bidla urbana.
LAST-MODIFIED:20260120T092502Z
LOCATION:Ljubljana\, Slovenia
URL:https://climate-adapt.eea.europa.eu/mt/more-events/the-uf-better-citie
 s-event
END:VEVENT
END:VCALENDAR
