BEGIN:VCALENDAR
VERSION:2.0
PRODID:-//Plone.org//NONSGML plone.app.event//EN
X-WR-TIMEZONE:Europe/Helsinki
BEGIN:VEVENT
SUMMARY:Webinar dwar l-ippjanar tal-ispazju marittimu fi klima li qed tinb
 idel
DTSTART;TZID=Europe/Helsinki:20230209T120000
DTEND;TZID=Europe/Helsinki:20230209T130000
DTSTAMP:20260420T045533Z
UID:8717a4f5f98c46378345e51f702f363d@varnish:6081
CATEGORIES:Webinar,Climate impact,Maritime Spatial Planning
CREATED:20250418T233004Z
DESCRIPTION:L-Ippjanar tal-Ispazju Marittimu (MSP) għandu l-għan li jla
 ħħaq mad-domanda dejjem tikber għall-ispazju u r-riżorsi tal-baħar mi
 nn setturi tradizzjonali u emerġenti\, filwaqt li jippreserva l-ekosistem
 i tal-baħar u s-servizzi tagħhom. Peress li huwa proċess fit-tul u este
 nsiv\, l-MSP għandu jqis l-impatti diretti u indiretti tat-tibdil fil-kli
 ma. Il-webinar se jinforma lill-parteċipanti mill-bliet u l-muniċipalita
 jiet\, il-kontej\, ir-reġjuni\, l-awtoritajiet tal-baħar u marittimi\, l
 -operaturi ekonomiċi marittimi u kostali\, l-akkademja u l-organizzazzjon
 ijiet tas-soċjetà ċivili dwar l-impatti tat-tibdil fil-klima u dwar l-g
 ħażliet biex is-settur isir reżiljenti għall-klima. Ir-reġistrazzjoni
  hija meħtieġa.
LAST-MODIFIED:20250418T233004Z
LOCATION:Online
URL:https://climate-adapt.eea.europa.eu/mt/more-events/webinar-on-maritime
 -spatial-planning-in-a-changing-climate
END:VEVENT
BEGIN:VTIMEZONE
TZID:Europe/Helsinki
X-LIC-LOCATION:Europe/Helsinki
BEGIN:STANDARD
DTSTART:20221030T030000
TZNAME:EET
TZOFFSETFROM:+0300
TZOFFSETTO:+0200
END:STANDARD
END:VTIMEZONE
END:VCALENDAR
