BEGIN:VCALENDAR
VERSION:2.0
PRODID:-//Plone.org//NONSGML plone.app.event//EN
X-WR-TIMEZONE:Europe/Helsinki
BEGIN:VEVENT
SUMMARY:L-integrazzjoni tar-riskji għas-saħħa f’Soluzzjonijiet Ibbaż
 ati fuq in-Natura
DTSTART;TZID=Europe/Helsinki:20241205T160000
DTEND;TZID=Europe/Helsinki:20241205T173000
DTSTAMP:20260419T142030Z
UID:2c8c331261704b3697ec135e554a6df8@climate-adapt.eea.europa.eu
CATEGORIES:health,climate change impacts,nature-based solutions
CONTACT:https://idalertproject.eu/integrating-health-risks-in-nature-based
 -solutions
CREATED:20250418T203820Z
DESCRIPTION:Dan il-webinar huwa organizzat bħala parti mill-proġett IDAl
 ert\, li qed jistudja r-relazzjoni kumplessa bejn it-tibdil fil-klima u d-
 dinamika ta 'mard infettiv li jinġarr minn vettur. Dan il-webinar jindiri
 zza l-intersezzjoni ta’ soluzzjonijiet ibbażati fuq in-natura (NbS)\, i
 t-tibdil fil-klima\, u s-saħħa pubblika.
LAST-MODIFIED:20250418T203821Z
LOCATION:Online
URL:https://climate-adapt.eea.europa.eu/mt/observatory/more-events-observa
 tory/integrating-health-risks-in-nature-based-solutions
END:VEVENT
BEGIN:VTIMEZONE
TZID:Europe/Helsinki
X-LIC-LOCATION:Europe/Helsinki
BEGIN:STANDARD
DTSTART:20241027T030000
TZNAME:EET
TZOFFSETFROM:+0300
TZOFFSETTO:+0200
END:STANDARD
END:VTIMEZONE
END:VCALENDAR
