BEGIN:VCALENDAR
VERSION:2.0
PRODID:-//Plone.org//NONSGML plone.app.event//EN
X-WR-TIMEZONE:Europe/Helsinki
BEGIN:VEVENT
SUMMARY:Vierde conferentie over de Baltische aarde
DTSTART;VALUE=DATE:20220530
DTEND;VALUE=DATE:20220605
DTSTAMP:20260420T045014Z
UID:f1d9a1e626024a899a38fe2abff6779f@varnish:6081
CATEGORIES:Regional Earth system,Baltic sea,Regional climate variability
CONTACT:https://www.baltic-earth.eu/events/087774/index.php.en
CREATED:20250415T105940Z
DESCRIPTION:De 4e Baltic Earth Conference\, georganiseerd door Earth Syste
 m Science for the Baltic Sea Region (Baltic Earth)\, vindt plaats in Jasta
 rnia\, Hel Peninsula\, Polen van 30 mei 2022 tot en met 3 juni 2022. De co
 nferentie behandelt de onderwerpen van de Baltic Earth Assessment Reports 
 (BEAR)\, die de meeste grote uitdagingen en onderzoeksthema's van de Balti
 sche aarde in de afgelopen negen jaar weerspiegelen. Enkele onderwerpen di
 e besproken moeten worden zijn onder meer natuurrampen en extreme gebeurte
 nissen\, zeespiegeldynamiek en kusterosie\, duurzame beheersopties\, het a
 nalyseren en modelleren van vroegere en toekomstige klimaatveranderingen.
LAST-MODIFIED:20250415T105940Z
LOCATION:Jastarnia\, Hel Peninsula\, Poland
URL:https://climate-adapt.eea.europa.eu/nl/more-events/4th-baltic-earth-co
 nference
END:VEVENT
END:VCALENDAR
