BEGIN:VCALENDAR
VERSION:2.0
PRODID:-//Plone.org//NONSGML plone.app.event//EN
X-WR-TIMEZONE:Europe/Helsinki
BEGIN:VEVENT
SUMMARY:Jaarlijks seminar van het Disaster Risk Management Knowledge Centr
 e
DTSTART;TZID=Europe/Helsinki:20221122T140000
DTEND;TZID=Europe/Helsinki:20221123T170000
DTSTAMP:20260419T200332Z
UID:14957e0b32f84b8cb8f58696a29aac36@varnish:6081
CATEGORIES:Risk analysis,Complex climate change hazards,Scientific communi
 ty
CONTACT:ec-drmkc-annual-seminar@ec.europa.eu\, https://drmkc.jrc.ec.europa
 .eu/events-news/drmkc-annual-seminars/6th-drmkc-annual-seminar
CREATED:20250415T105956Z
DESCRIPTION:Dit tweedaagse evenement van de DRMKC heeft tot doel de result
 aten te delen van de wetenschapspijler van het kennisnetwerk van de Unie v
 oor civiele bescherming (UCPKN) bij het aanpakken van uitdagingen zoals sa
 mengestelde\, gelijktijdige en cascade-evenementen die onder meer moeten w
 orden opgenomen in risicoanalyse of de communicatie-uitdagingen op het geb
 ied van risicobeheer. Een hybride evenement wordt samen met het Franse min
 isterie van Binnenlandse Zaken georganiseerd en samen met DG ECHO georgani
 seerd in Parijs.
LAST-MODIFIED:20250415T105957Z
LOCATION:Paris\, France / hybrid
URL:https://climate-adapt.eea.europa.eu/nl/more-events/6th-drmkc-annual-se
 minar-1
END:VEVENT
BEGIN:VTIMEZONE
TZID:Europe/Helsinki
X-LIC-LOCATION:Europe/Helsinki
BEGIN:STANDARD
DTSTART:20221030T030000
TZNAME:EET
TZOFFSETFROM:+0300
TZOFFSETTO:+0200
END:STANDARD
END:VTIMEZONE
END:VCALENDAR
