BEGIN:VCALENDAR
VERSION:2.0
PRODID:-//Plone.org//NONSGML plone.app.event//EN
X-WR-TIMEZONE:Europe/Helsinki
BEGIN:VEVENT
SUMMARY:Aanpassing op basis van ecosystemen: Samenwerken met de natuur om 
 zich aan te passen aan een veranderend klimaat
DTSTART;VALUE=DATE:20221103
DTEND;VALUE=DATE:20230107
DTSTAMP:20260420T132950Z
UID:47b90106ad2941469c0e6490cf4fdcd3@varnish:6081
CATEGORIES:Ecosystem-based Adaptation,Climate-related risks,Online course
CONTACT:https://www.edx.org/course/ecosystem-based-adaptation-working-with
 -nature-to-adapt-to-a-changing-climate
CREATED:20250415T110848Z
DESCRIPTION:Het leerplatform edX\, Transformation through education\, dat 
 wordt ondersteund door verschillende universiteiten over de hele wereld\, 
 waaronder verschillende Europese universiteiten\, biedt een onlinecursus o
 ver “Ecosystem-based Adaptation: Samenwerken met de natuur om zich aan t
 e passen aan een veranderend klimaat". Het zal lerenden uitrusten met over
 draagbare en reproduceerbare vaardigheden bij het ontwerpen en uitvoeren v
 an op ecosystemen gebaseerde aanpassingsinitiatieven (EbA) door gerichte t
 raining aan te bieden over kernbeginselen\, risicobeoordelingen\, monitori
 ng en governance.
LAST-MODIFIED:20250415T110848Z
LOCATION:Online
URL:https://climate-adapt.eea.europa.eu/nl/more-events/ecosystem-based-ada
 ptation-working-with-nature-to-adapt-to-a-changing-climate
END:VEVENT
END:VCALENDAR
