BEGIN:VCALENDAR
VERSION:2.0
PRODID:-//Plone.org//NONSGML plone.app.event//EN
X-WR-TIMEZONE:Europe/Helsinki
BEGIN:VEVENT
SUMMARY:Eerste Europese Eilandentop over klimaatverandering
DTSTART;VALUE=DATE:20210323
DTEND;VALUE=DATE:20210325
DTSTAMP:20260421T005810Z
UID:9c7ddd8655854191ab411fcdfe36db04@varnish:6081
CATEGORIES:event,climateservice
CONTACT:https://soclimpact.net/first-european-island-summit-on-climate-cha
 nge-23rd-march-2021/
CREATED:20250415T111104Z
DESCRIPTION:Het SOCLIMPACT-project organiseert een online open debat tusse
 n academici\, vertegenwoordigers van twaalf eilanden en ultraperifere gebi
 eden in de EU en panelleden van de Europese Commissie met als doel traject
 en voor aanpassing te analyseren die veerkrachtiger archipels bouwen. Kern
 onderwerp is het Regional Exchange Information System en de Adaptation Sup
 port Tool for Island\, een door dit project ontwikkelde klimaatdienst.
LAST-MODIFIED:20250415T111104Z
LOCATION:Online
URL:https://climate-adapt.eea.europa.eu/nl/more-events/first-european-isla
 nds-summit-on-climate-change
END:VEVENT
END:VCALENDAR
